Package: illuminaio Version: 0.49.0 Command: rm -rf illuminaio.buildbin-libdir && mkdir illuminaio.buildbin-libdir && /Users/biocbuild/BBS/utils/build-universal.sh illuminaio_0.49.0.tar.gz /Library/Frameworks/R.framework/Resources/bin/R illuminaio.buildbin-libdir StartedAt: 2025-02-13 00:41:39 -0500 (Thu, 13 Feb 2025) EndedAt: 2025-02-13 00:41:49 -0500 (Thu, 13 Feb 2025) EllapsedTime: 10.5 seconds RetCode: 0 Status: OK PackageFile: illuminaio_0.49.0.tgz PackageFileSize: 449.1 KiB