Package: illuminaio Version: 0.49.0 Command: /Library/Frameworks/R.framework/Resources/bin/R CMD check --install=check:illuminaio.install-out.txt --library=/Library/Frameworks/R.framework/Resources/library --no-vignettes --timings illuminaio_0.49.0.tar.gz StartedAt: 2025-02-09 21:22:38 -0500 (Sun, 09 Feb 2025) EndedAt: 2025-02-09 21:23:19 -0500 (Sun, 09 Feb 2025) EllapsedTime: 40.3 seconds RetCode: 0 Status: OK CheckDir: illuminaio.Rcheck Warnings: 0