Package: illuminaio Version: 0.49.0 Command: /home/biocbuild/bbs-3.21-bioc/R/bin/R CMD check --install=check:illuminaio.install-out.txt --library=/home/biocbuild/bbs-3.21-bioc/R/site-library --timings illuminaio_0.49.0.tar.gz StartedAt: 2025-02-09 23:18:17 -0500 (Sun, 09 Feb 2025) EndedAt: 2025-02-09 23:18:51 -0500 (Sun, 09 Feb 2025) EllapsedTime: 34.1 seconds RetCode: 0 Status: OK CheckDir: illuminaio.Rcheck Warnings: 0