Package: imcRtools Version: 1.13.0 Command: /Library/Frameworks/R.framework/Resources/bin/R CMD check --install=check:imcRtools.install-out.txt --library=/Library/Frameworks/R.framework/Resources/library --no-vignettes --timings imcRtools_1.13.0.tar.gz StartedAt: 2025-02-04 19:44:29 -0500 (Tue, 04 Feb 2025) EndedAt: 2025-02-04 19:50:12 -0500 (Tue, 04 Feb 2025) EllapsedTime: 343.0 seconds RetCode: 1 Status: ERROR CheckDir: imcRtools.Rcheck Warnings: NA