############################################################################## ############################################################################## ### ### Running command: ### ### /home/biocbuild/R/R/bin/R CMD build --keep-empty-dirs --no-resave-data imcRtools ### ############################################################################## ############################################################################## * checking for file ‘imcRtools/DESCRIPTION’ ... OK * preparing ‘imcRtools’: * checking DESCRIPTION meta-information ... OK * installing the package to build vignettes ----------------------------------- ERROR: dependency ‘cytomapper’ is not available for package ‘imcRtools’ Perhaps try a variation of: install.packages('cytomapper') * removing ‘/home/biocbuild/tmp/Rtmp22zDge/Rinstadeae59578176/imcRtools’ ----------------------------------- ERROR: package installation failed