Package: imcRtools Version: 1.13.0 Command: /home/biocbuild/R/R/bin/R CMD INSTALL imcRtools StartedAt: 2025-01-29 20:15:05 -0000 (Wed, 29 Jan 2025) EndedAt: 2025-01-29 20:15:06 -0000 (Wed, 29 Jan 2025) EllapsedTime: 0.8 seconds RetCode: 1 Status: ERROR