Package: imcRtools Version: 1.13.0 Command: /Library/Frameworks/R.framework/Resources/bin/R CMD INSTALL imcRtools StartedAt: 2025-02-04 15:31:39 -0500 (Tue, 04 Feb 2025) EndedAt: 2025-02-04 15:32:53 -0500 (Tue, 04 Feb 2025) EllapsedTime: 74.0 seconds RetCode: 0 Status: OK