Package: imcRtools Version: 1.13.0 Command: /home/biocbuild/bbs-3.21-bioc/R/bin/R CMD INSTALL imcRtools StartedAt: 2025-02-09 15:35:44 -0500 (Sun, 09 Feb 2025) EndedAt: 2025-02-09 15:36:42 -0500 (Sun, 09 Feb 2025) EllapsedTime: 57.7 seconds RetCode: 0 Status: OK