Package: imcRtools Version: 1.13.0 Command: chmod a+r imcRtools -R && E:\biocbuild\bbs-3.21-bioc\R\bin\R.exe CMD build --keep-empty-dirs --no-resave-data imcRtools StartedAt: 2025-02-09 19:20:51 -0500 (Sun, 09 Feb 2025) EndedAt: 2025-02-09 19:25:22 -0500 (Sun, 09 Feb 2025) EllapsedTime: 271.8 seconds RetCode: 0 Status: OK PackageFile: imcRtools_1.13.0.tar.gz PackageFileSize: 2.205 MiB