Package: immApex Version: 1.1.0 Command: /Library/Frameworks/R.framework/Resources/bin/R CMD build --keep-empty-dirs --no-resave-data immApex StartedAt: 2025-02-04 16:40:50 -0500 (Tue, 04 Feb 2025) EndedAt: 2025-02-04 16:41:51 -0500 (Tue, 04 Feb 2025) EllapsedTime: 60.5 seconds RetCode: 0 Status: OK PackageFile: immApex_1.1.0.tar.gz PackageFileSize: 2.913 MiB