Package: immApex Version: 1.1.0 Command: /Library/Frameworks/R.framework/Resources/bin/R CMD check --install=check:immApex.install-out.txt --library=/Library/Frameworks/R.framework/Resources/library --no-vignettes --timings immApex_1.1.0.tar.gz StartedAt: 2025-02-04 19:44:34 -0500 (Tue, 04 Feb 2025) EndedAt: 2025-02-04 19:46:27 -0500 (Tue, 04 Feb 2025) EllapsedTime: 113.4 seconds RetCode: 0 Status: OK CheckDir: immApex.Rcheck Warnings: 0