Package: immApex Version: 1.1.0 Command: /home/biocbuild/R/R/bin/R CMD build --keep-empty-dirs --no-resave-data immApex StartedAt: 2025-01-28 23:43:14 -0000 (Tue, 28 Jan 2025) EndedAt: 2025-01-28 23:44:21 -0000 (Tue, 28 Jan 2025) EllapsedTime: 67.1 seconds RetCode: 1 Status: ERROR PackageFile: None PackageFileSize: NA