Package: immApex Version: 1.1.0 Command: /home/biocbuild/R/R/bin/R CMD INSTALL immApex StartedAt: 2025-01-29 19:41:35 -0000 (Wed, 29 Jan 2025) EndedAt: 2025-01-29 19:42:09 -0000 (Wed, 29 Jan 2025) EllapsedTime: 33.9 seconds RetCode: 0 Status: OK