Package: immApex Version: 1.1.0 Command: /Library/Frameworks/R.framework/Resources/bin/R CMD INSTALL immApex StartedAt: 2025-02-09 15:11:54 -0500 (Sun, 09 Feb 2025) EndedAt: 2025-02-09 15:12:28 -0500 (Sun, 09 Feb 2025) EllapsedTime: 34.2 seconds RetCode: 0 Status: OK