Package: immApex Version: 1.1.0 Command: chmod a+r immApex -R && E:\biocbuild\bbs-3.21-bioc\R\bin\R.exe CMD build --keep-empty-dirs --no-resave-data immApex StartedAt: 2025-02-09 19:20:58 -0500 (Sun, 09 Feb 2025) EndedAt: 2025-02-09 19:24:19 -0500 (Sun, 09 Feb 2025) EllapsedTime: 200.6 seconds RetCode: 1 Status: ERROR PackageFile: None PackageFileSize: NA