Package: immunoClust Version: 1.39.3 Command: rm -rf immunoClust.buildbin-libdir && mkdir immunoClust.buildbin-libdir && /Users/biocbuild/BBS/utils/build-universal.sh immunoClust_1.39.3.tar.gz /Library/Frameworks/R.framework/Resources/bin/R immunoClust.buildbin-libdir StartedAt: 2025-02-09 22:17:56 -0500 (Sun, 09 Feb 2025) EndedAt: 2025-02-09 22:18:10 -0500 (Sun, 09 Feb 2025) EllapsedTime: 13.3 seconds RetCode: 0 Status: OK PackageFile: immunoClust_1.39.3.tgz PackageFileSize: 3.272 MiB