Package: immunoClust Version: 1.39.3 Command: /Library/Frameworks/R.framework/Resources/bin/R CMD build --keep-empty-dirs --no-resave-data immunoClust StartedAt: 2025-02-09 16:40:29 -0500 (Sun, 09 Feb 2025) EndedAt: 2025-02-09 16:42:00 -0500 (Sun, 09 Feb 2025) EllapsedTime: 90.9 seconds RetCode: 0 Status: OK PackageFile: immunoClust_1.39.3.tar.gz PackageFileSize: 2.507 MiB