Package: immunoClust Version: 1.39.3 Command: /Library/Frameworks/R.framework/Resources/bin/R CMD build --keep-empty-dirs --no-resave-data immunoClust StartedAt: 2025-02-03 17:09:09 -0500 (Mon, 03 Feb 2025) EndedAt: 2025-02-03 17:13:01 -0500 (Mon, 03 Feb 2025) EllapsedTime: 231.9 seconds RetCode: 0 Status: OK PackageFile: immunoClust_1.39.3.tar.gz PackageFileSize: 2.504 MiB