Package: immunoClust Version: 1.39.3 Command: /Library/Frameworks/R.framework/Resources/bin/R CMD check --install=check:immunoClust.install-out.txt --library=/Library/Frameworks/R.framework/Resources/library --no-vignettes --timings immunoClust_1.39.3.tar.gz StartedAt: 2025-02-09 21:23:11 -0500 (Sun, 09 Feb 2025) EndedAt: 2025-02-09 21:26:27 -0500 (Sun, 09 Feb 2025) EllapsedTime: 195.5 seconds RetCode: 0 Status: OK CheckDir: immunoClust.Rcheck Warnings: 0