Package: immunoClust Version: 1.39.3 Command: /Library/Frameworks/R.framework/Resources/bin/R CMD INSTALL immunoClust StartedAt: 2025-02-09 15:12:53 -0500 (Sun, 09 Feb 2025) EndedAt: 2025-02-09 15:13:30 -0500 (Sun, 09 Feb 2025) EllapsedTime: 37.5 seconds RetCode: 0 Status: OK