Package: immunoClust Version: 1.39.3 Command: rm -rf immunoClust.buildbin-libdir && mkdir immunoClust.buildbin-libdir && E:\biocbuild\bbs-3.21-bioc\R\bin\R.exe CMD INSTALL --build --library=immunoClust.buildbin-libdir immunoClust_1.39.3.tar.gz StartedAt: 2025-02-10 07:57:41 -0500 (Mon, 10 Feb 2025) EndedAt: 2025-02-10 07:59:55 -0500 (Mon, 10 Feb 2025) EllapsedTime: 134.3 seconds RetCode: 0 Status: OK PackageFile: immunoClust_1.39.3.zip PackageFileSize: 3.548 MiB