Package: immunoClust Version: 1.39.3 Command: chmod a+r immunoClust -R && E:\biocbuild\bbs-3.21-bioc\R\bin\R.exe CMD build --keep-empty-dirs --no-resave-data immunoClust StartedAt: 2025-02-12 19:26:03 -0500 (Wed, 12 Feb 2025) EndedAt: 2025-02-12 19:31:27 -0500 (Wed, 12 Feb 2025) EllapsedTime: 323.9 seconds RetCode: 0 Status: OK PackageFile: immunoClust_1.39.3.tar.gz PackageFileSize: 2.502 MiB