Package: immunoClust Version: 1.39.3 Command: E:\biocbuild\bbs-3.21-bioc\R\bin\R.exe CMD INSTALL immunoClust StartedAt: 2025-02-09 15:48:49 -0500 (Sun, 09 Feb 2025) EndedAt: 2025-02-09 15:50:46 -0500 (Sun, 09 Feb 2025) EllapsedTime: 117.1 seconds RetCode: 0 Status: OK