Package: infinityFlow Version: 1.17.0 Command: /Library/Frameworks/R.framework/Resources/bin/R CMD build --keep-empty-dirs --no-resave-data infinityFlow StartedAt: 2025-02-09 16:41:16 -0500 (Sun, 09 Feb 2025) EndedAt: 2025-02-09 16:42:43 -0500 (Sun, 09 Feb 2025) EllapsedTime: 86.9 seconds RetCode: 0 Status: OK PackageFile: infinityFlow_1.17.0.tar.gz PackageFileSize: 1.709 MiB