Package: infinityFlow Version: 1.17.0 Command: /Library/Frameworks/R.framework/Resources/bin/R CMD check --install=check:infinityFlow.install-out.txt --library=/Library/Frameworks/R.framework/Resources/library --no-vignettes --timings infinityFlow_1.17.0.tar.gz StartedAt: 2025-02-09 19:43:56 -0500 (Sun, 09 Feb 2025) EndedAt: 2025-02-09 19:44:51 -0500 (Sun, 09 Feb 2025) EllapsedTime: 54.7 seconds RetCode: 0 Status: OK CheckDir: infinityFlow.Rcheck Warnings: 0