Package: infinityFlow Version: 1.17.0 Command: /home/biocbuild/bbs-3.21-bioc/R/bin/R CMD check --install=check:infinityFlow.install-out.txt --library=/home/biocbuild/bbs-3.21-bioc/R/site-library --timings infinityFlow_1.17.0.tar.gz StartedAt: 2025-02-12 23:21:30 -0500 (Wed, 12 Feb 2025) EndedAt: 2025-02-12 23:27:56 -0500 (Wed, 12 Feb 2025) EllapsedTime: 386.4 seconds RetCode: 0 Status: OK CheckDir: infinityFlow.Rcheck Warnings: 0