Package: infinityFlow Version: 1.17.0 Command: rm -rf infinityFlow.buildbin-libdir && mkdir infinityFlow.buildbin-libdir && E:\biocbuild\bbs-3.21-bioc\R\bin\R.exe CMD INSTALL --build --library=infinityFlow.buildbin-libdir infinityFlow_1.17.0.tar.gz StartedAt: 2025-02-10 07:58:05 -0500 (Mon, 10 Feb 2025) EndedAt: 2025-02-10 07:58:40 -0500 (Mon, 10 Feb 2025) EllapsedTime: 34.1 seconds RetCode: 0 Status: OK PackageFile: infinityFlow_1.17.0.zip PackageFileSize: 1.782 MiB