Package: infinityFlow Version: 1.17.0 Command: chmod a+r infinityFlow -R && E:\biocbuild\bbs-3.21-bioc\R\bin\R.exe CMD build --keep-empty-dirs --no-resave-data infinityFlow StartedAt: 2025-02-12 19:28:05 -0500 (Wed, 12 Feb 2025) EndedAt: 2025-02-12 19:34:37 -0500 (Wed, 12 Feb 2025) EllapsedTime: 391.5 seconds RetCode: 0 Status: OK PackageFile: infinityFlow_1.17.0.tar.gz PackageFileSize: 1.709 MiB