Package: intansv Version: 1.47.0 Command: /Library/Frameworks/R.framework/Resources/bin/R CMD build --keep-empty-dirs --no-resave-data intansv StartedAt: 2025-02-12 16:42:52 -0500 (Wed, 12 Feb 2025) EndedAt: 2025-02-12 16:43:29 -0500 (Wed, 12 Feb 2025) EllapsedTime: 36.4 seconds RetCode: 0 Status: OK PackageFile: intansv_1.47.0.tar.gz PackageFileSize: 614.5 KiB