Package: intansv Version: 1.47.0 Command: /home/biocbuild/R/R/bin/R CMD build --keep-empty-dirs --no-resave-data intansv StartedAt: 2025-01-28 23:45:56 -0000 (Tue, 28 Jan 2025) EndedAt: 2025-01-28 23:48:05 -0000 (Tue, 28 Jan 2025) EllapsedTime: 129.0 seconds RetCode: 0 Status: OK PackageFile: intansv_1.47.0.tar.gz PackageFileSize: 609.9 KiB