Package: intansv Version: 1.47.0 Command: /home/biocbuild/R/R/bin/R CMD check --install=check:intansv.install-out.txt --library=/home/biocbuild/R/R/site-library --no-vignettes --timings intansv_1.47.0.tar.gz StartedAt: 2025-01-28 11:39:18 -0000 (Tue, 28 Jan 2025) EndedAt: 2025-01-28 11:47:28 -0000 (Tue, 28 Jan 2025) EllapsedTime: 490.4 seconds RetCode: 0 Status: WARNINGS CheckDir: intansv.Rcheck Warnings: 5