Package: intansv Version: 1.47.0 Command: /home/biocbuild/R/R/bin/R CMD INSTALL intansv StartedAt: 2025-01-29 20:10:44 -0000 (Wed, 29 Jan 2025) EndedAt: 2025-01-29 20:11:54 -0000 (Wed, 29 Jan 2025) EllapsedTime: 70.1 seconds RetCode: 0 Status: OK