Package: intansv Version: 1.47.0 Command: /Library/Frameworks/R.framework/Resources/bin/R CMD build --keep-empty-dirs --no-resave-data intansv StartedAt: 2025-02-09 17:11:00 -0500 (Sun, 09 Feb 2025) EndedAt: 2025-02-09 17:12:41 -0500 (Sun, 09 Feb 2025) EllapsedTime: 101.8 seconds RetCode: 0 Status: OK PackageFile: intansv_1.47.0.tar.gz PackageFileSize: 614.5 KiB