Package: intansv Version: 1.47.0 Command: /Library/Frameworks/R.framework/Resources/bin/R CMD check --install=check:intansv.install-out.txt --library=/Library/Frameworks/R.framework/Resources/library --no-vignettes --timings intansv_1.47.0.tar.gz StartedAt: 2025-02-09 21:24:29 -0500 (Sun, 09 Feb 2025) EndedAt: 2025-02-09 21:31:20 -0500 (Sun, 09 Feb 2025) EllapsedTime: 410.9 seconds RetCode: 0 Status: OK CheckDir: intansv.Rcheck Warnings: 0