Package: intansv Version: 1.47.0 Command: /Library/Frameworks/R.framework/Resources/bin/R CMD INSTALL intansv StartedAt: 2025-02-09 15:29:15 -0500 (Sun, 09 Feb 2025) EndedAt: 2025-02-09 15:30:25 -0500 (Sun, 09 Feb 2025) EllapsedTime: 70.2 seconds RetCode: 0 Status: OK