Package: intansv Version: 1.47.0 Command: rm -rf intansv.buildbin-libdir && mkdir intansv.buildbin-libdir && E:\biocbuild\bbs-3.21-bioc\R\bin\R.exe CMD INSTALL --build --library=intansv.buildbin-libdir intansv_1.47.0.tar.gz StartedAt: 2025-02-10 07:58:25 -0500 (Mon, 10 Feb 2025) EndedAt: 2025-02-10 07:59:25 -0500 (Mon, 10 Feb 2025) EllapsedTime: 60.1 seconds RetCode: 0 Status: OK PackageFile: intansv_1.47.0.zip PackageFileSize: 701.3 KiB