Package: intansv Version: 1.47.0 Command: chmod a+r intansv -R && E:\biocbuild\bbs-3.21-bioc\R\bin\R.exe CMD build --keep-empty-dirs --no-resave-data intansv StartedAt: 2025-02-09 19:23:37 -0500 (Sun, 09 Feb 2025) EndedAt: 2025-02-09 19:25:24 -0500 (Sun, 09 Feb 2025) EllapsedTime: 106.9 seconds RetCode: 0 Status: OK PackageFile: intansv_1.47.0.tar.gz PackageFileSize: 614.3 KiB