Package: interacCircos Version: 1.17.0 Command: /Library/Frameworks/R.framework/Resources/bin/R CMD build --keep-empty-dirs --no-resave-data interacCircos StartedAt: 2025-02-10 16:42:32 -0500 (Mon, 10 Feb 2025) EndedAt: 2025-02-10 16:42:36 -0500 (Mon, 10 Feb 2025) EllapsedTime: 4.0 seconds RetCode: 0 Status: OK PackageFile: interacCircos_1.17.0.tar.gz PackageFileSize: 710.1 KiB