Package: interacCircos Version: 1.17.0 Command: /Library/Frameworks/R.framework/Resources/bin/R CMD check --install=check:interacCircos.install-out.txt --library=/Library/Frameworks/R.framework/Resources/library --no-vignettes --timings interacCircos_1.17.0.tar.gz StartedAt: 2025-02-10 19:45:46 -0500 (Mon, 10 Feb 2025) EndedAt: 2025-02-10 19:46:03 -0500 (Mon, 10 Feb 2025) EllapsedTime: 16.2 seconds RetCode: 0 Status: OK CheckDir: interacCircos.Rcheck Warnings: 0