Package: interacCircos Version: 1.17.0 Command: /Library/Frameworks/R.framework/Resources/bin/R CMD INSTALL interacCircos StartedAt: 2025-02-10 15:14:52 -0500 (Mon, 10 Feb 2025) EndedAt: 2025-02-10 15:14:54 -0500 (Mon, 10 Feb 2025) EllapsedTime: 1.5 seconds RetCode: 0 Status: OK