Package: interacCircos Version: 1.17.0 Command: /Library/Frameworks/R.framework/Resources/bin/R CMD INSTALL interacCircos StartedAt: 2025-02-10 15:24:00 -0500 (Mon, 10 Feb 2025) EndedAt: 2025-02-10 15:24:05 -0500 (Mon, 10 Feb 2025) EllapsedTime: 4.8 seconds RetCode: 0 Status: OK