Package: interacCircos Version: 1.17.0 Command: /home/biocbuild/bbs-3.21-bioc/R/bin/R CMD check --install=check:interacCircos.install-out.txt --library=/home/biocbuild/bbs-3.21-bioc/R/site-library --timings interacCircos_1.17.0.tar.gz StartedAt: 2025-02-09 23:22:17 -0500 (Sun, 09 Feb 2025) EndedAt: 2025-02-09 23:22:49 -0500 (Sun, 09 Feb 2025) EllapsedTime: 32.1 seconds RetCode: 0 Status: OK CheckDir: interacCircos.Rcheck Warnings: 0