Package: interacCircos Version: 1.17.0 Command: chmod a+r interacCircos -R && E:\biocbuild\bbs-3.21-bioc\R\bin\R.exe CMD build --keep-empty-dirs --no-resave-data interacCircos StartedAt: 2025-02-09 19:23:39 -0500 (Sun, 09 Feb 2025) EndedAt: 2025-02-09 19:24:10 -0500 (Sun, 09 Feb 2025) EllapsedTime: 31.1 seconds RetCode: 0 Status: OK PackageFile: interacCircos_1.17.0.tar.gz PackageFileSize: 711.7 KiB