Package: interacCircos Version: 1.17.0 Command: E:\biocbuild\bbs-3.21-bioc\R\bin\R.exe CMD INSTALL interacCircos StartedAt: 2025-02-09 15:34:56 -0500 (Sun, 09 Feb 2025) EndedAt: 2025-02-09 15:35:40 -0500 (Sun, 09 Feb 2025) EllapsedTime: 43.6 seconds RetCode: 0 Status: OK