Package: interactiveDisplay Version: 1.45.1 Command: /Library/Frameworks/R.framework/Resources/bin/R CMD build --keep-empty-dirs --no-resave-data interactiveDisplay StartedAt: 2025-02-09 16:42:38 -0500 (Sun, 09 Feb 2025) EndedAt: 2025-02-09 16:43:03 -0500 (Sun, 09 Feb 2025) EllapsedTime: 25.3 seconds RetCode: 0 Status: OK PackageFile: interactiveDisplay_1.45.1.tar.gz PackageFileSize: 4.56 MiB