Package: interactiveDisplay Version: 1.45.1 Command: /Library/Frameworks/R.framework/Resources/bin/R CMD INSTALL interactiveDisplay StartedAt: 2025-02-03 16:04:38 -0500 (Mon, 03 Feb 2025) EndedAt: 2025-02-03 16:04:46 -0500 (Mon, 03 Feb 2025) EllapsedTime: 8.1 seconds RetCode: 0 Status: OK