Package: interactiveDisplay Version: 1.45.1 Command: /home/biocbuild/R/R/bin/R CMD build --keep-empty-dirs --no-resave-data interactiveDisplay StartedAt: 2025-01-28 23:46:37 -0000 (Tue, 28 Jan 2025) EndedAt: 2025-01-28 23:47:45 -0000 (Tue, 28 Jan 2025) EllapsedTime: 68.0 seconds RetCode: 0 Status: OK PackageFile: interactiveDisplay_1.45.1.tar.gz PackageFileSize: 4.556 MiB