Package: interactiveDisplay Version: 1.45.1 Command: /home/biocbuild/R/R/bin/R CMD INSTALL interactiveDisplay StartedAt: 2025-01-29 20:37:28 -0000 (Wed, 29 Jan 2025) EndedAt: 2025-01-29 20:38:01 -0000 (Wed, 29 Jan 2025) EllapsedTime: 32.6 seconds RetCode: 0 Status: OK