Package: interactiveDisplay Version: 1.45.1 Command: rm -rf interactiveDisplay.buildbin-libdir && mkdir interactiveDisplay.buildbin-libdir && /Users/biocbuild/BBS/utils/build-universal.sh interactiveDisplay_1.45.1.tar.gz /Library/Frameworks/R.framework/Resources/bin/R interactiveDisplay.buildbin-libdir StartedAt: 2025-02-04 00:39:24 -0500 (Tue, 04 Feb 2025) EndedAt: 2025-02-04 00:39:59 -0500 (Tue, 04 Feb 2025) EllapsedTime: 35.6 seconds RetCode: 0 Status: OK PackageFile: interactiveDisplay_1.45.1.tgz PackageFileSize: 2.472 MiB