Package: interactiveDisplay Version: 1.45.1 Command: /Library/Frameworks/R.framework/Resources/bin/R CMD build --keep-empty-dirs --no-resave-data interactiveDisplay StartedAt: 2025-02-03 17:11:14 -0500 (Mon, 03 Feb 2025) EndedAt: 2025-02-03 17:12:15 -0500 (Mon, 03 Feb 2025) EllapsedTime: 61.7 seconds RetCode: 0 Status: OK PackageFile: interactiveDisplay_1.45.1.tar.gz PackageFileSize: 4.561 MiB